{
 "currentVersion": 10.91,
 "cimVersion": "2.9.0",
 "serviceDescription": "",
 "mapName": "Aerial_2017PostFireOct31",
 "description": "",
 "copyrightText": "",
 "supportsDynamicLayers": true,
 "layers": [
  {
   "id": 0,
   "name": "2017_SantaRosa_North_PRELIM.sid",
   "parentLayerId": -1,
   "defaultVisibility": true,
   "subLayerIds": null,
   "minScale": 0,
   "maxScale": 0,
   "type": "Raster Layer",
   "supportsDynamicLegends": true
  }
 ],
 "tables": [],
 "spatialReference": {
  "wkid": 102642,
  "latestWkid": 2226,
  "xyTolerance": 0.003280833333333333,
  "zTolerance": 0.001,
  "mTolerance": 0.001,
  "falseX": -115211800,
  "falseY": -93821500,
  "xyUnits": 3048.0060960121928,
  "falseZ": -100000,
  "zUnits": 10000,
  "falseM": -100000,
  "mUnits": 10000
 },
 "singleFusedMapCache": true,
 "tileInfo": {
  "rows": 256,
  "cols": 256,
  "dpi": 96,
  "format": "JPEG",
  "compressionQuality": 90,
  "origin": {
   "x": -115211800,
   "y": 1.4972539999999997E8
  },
  "spatialReference": {
   "wkid": 102642,
   "latestWkid": 2226,
   "xyTolerance": 0.003280833333333333,
   "zTolerance": 0.001,
   "mTolerance": 0.001,
   "falseX": -115211800,
   "falseY": -93821500,
   "xyUnits": 3048.0060960121928,
   "falseZ": -100000,
   "zUnits": 10000,
   "falseM": -100000,
   "mUnits": 10000
  },
  "lods": [
   {
    "level": 0,
    "resolution": 133.33333333333331,
    "scale": 153600
   },
   {
    "level": 1,
    "resolution": 66.66666666666666,
    "scale": 76800
   },
   {
    "level": 2,
    "resolution": 33.33333333333333,
    "scale": 38400
   },
   {
    "level": 3,
    "resolution": 16.666666666666664,
    "scale": 19200
   },
   {
    "level": 4,
    "resolution": 8.333333333333332,
    "scale": 9600
   },
   {
    "level": 5,
    "resolution": 4.166666666666666,
    "scale": 4800
   },
   {
    "level": 6,
    "resolution": 2.083333333333333,
    "scale": 2400
   },
   {
    "level": 7,
    "resolution": 1.0416666666666665,
    "scale": 1200
   },
   {
    "level": 8,
    "resolution": 0.5208333333333333,
    "scale": 600
   },
   {
    "level": 9,
    "resolution": 0.26041666666666663,
    "scale": 300
   },
   {
    "level": 10,
    "resolution": 0.13020833333333331,
    "scale": 150
   }
  ]
 },
 "storageInfo": {
  "storageFormat": "esriMapCacheStorageModeCompactV2",
  "packetSize": 128
 },
 "initialExtent": {
  "xmin": 6346734.658169504,
  "ymin": 1929233.7809867868,
  "xmax": 6365723.87562234,
  "ymax": 1953193.8105412107,
  "spatialReference": {
   "wkid": 102642,
   "latestWkid": 2226,
   "xyTolerance": 0.003280833333333333,
   "zTolerance": 0.001,
   "mTolerance": 0.001,
   "falseX": -115211800,
   "falseY": -93821500,
   "xyUnits": 3048.0060960121928,
   "falseZ": -100000,
   "zUnits": 10000,
   "falseM": -100000,
   "mUnits": 10000
  }
 },
 "fullExtent": {
  "xmin": 6343829.999999997,
  "ymin": 1933319.9999999886,
  "xmax": 6368430.000000003,
  "ymax": 1948079.999999999,
  "spatialReference": {
   "wkid": 102642,
   "latestWkid": 2226,
   "xyTolerance": 0.003280833333333333,
   "zTolerance": 0.001,
   "mTolerance": 0.001,
   "falseX": -115211800,
   "falseY": -93821500,
   "xyUnits": 3048.0060960121928,
   "falseZ": -100000,
   "zUnits": 10000,
   "falseM": -100000,
   "mUnits": 10000
  }
 },
 "datesInUnknownTimezone": false,
 "minScale": 153600,
 "maxScale": 150,
 "minLOD": 0,
 "maxLOD": 10,
 "units": "esriFeet",
 "supportedImageFormatTypes": "PNG32,PNG24,PNG,JPG,DIB,TIFF,EMF,PS,PDF,GIF,SVG,SVGZ,BMP",
 "documentInfo": {
  "Title": "Untitled.aprx",
  "Author": "",
  "Comments": "",
  "Subject": "",
  "Category": "",
  "AntialiasingMode": "None",
  "TextAntialiasingMode": "Force",
  "Version": "2.9.0",
  "Keywords": ""
 },
 "capabilities": "Map,Query,Data",
 "supportedQueryFormats": "JSON, geoJSON, PBF",
 "exportTilesAllowed": false,
 "referenceScale": 0.0,
 "supportsDatumTransformation": true,
 "archivingInfo": {
  "supportsHistoricMoment": false
 },
 "supportsClipping": true,
 "supportsSpatialFilter": true,
 "supportsTimeRelation": true,
 "supportsQueryDataElements": true,
 "maxRecordCount": 2000,
 "maxImageHeight": 4096,
 "maxImageWidth": 4096,
 "supportedExtensions": "",
 "resampling": false
}
